BEGIN:VCALENDAR
VERSION:2.0
PRODID:-//Arctic SDI - ECPv6.15.11//NONSGML v1.0//EN
CALSCALE:GREGORIAN
METHOD:PUBLISH
X-WR-CALNAME:Arctic SDI
X-ORIGINAL-URL:https://arctic-sdi.org
X-WR-CALDESC:Events for Arctic SDI
REFRESH-INTERVAL;VALUE=DURATION:PT1H
X-Robots-Tag:noindex
X-PUBLISHED-TTL:PT1H
BEGIN:VTIMEZONE
TZID:Europe/Copenhagen
BEGIN:DAYLIGHT
TZOFFSETFROM:+0100
TZOFFSETTO:+0200
TZNAME:CEST
DTSTART:20190331T010000
END:DAYLIGHT
BEGIN:STANDARD
TZOFFSETFROM:+0200
TZOFFSETTO:+0100
TZNAME:CET
DTSTART:20191027T010000
END:STANDARD
BEGIN:DAYLIGHT
TZOFFSETFROM:+0100
TZOFFSETTO:+0200
TZNAME:CEST
DTSTART:20200329T010000
END:DAYLIGHT
BEGIN:STANDARD
TZOFFSETFROM:+0200
TZOFFSETTO:+0100
TZNAME:CET
DTSTART:20201025T010000
END:STANDARD
BEGIN:DAYLIGHT
TZOFFSETFROM:+0100
TZOFFSETTO:+0200
TZNAME:CEST
DTSTART:20210328T010000
END:DAYLIGHT
BEGIN:STANDARD
TZOFFSETFROM:+0200
TZOFFSETTO:+0100
TZNAME:CET
DTSTART:20211031T010000
END:STANDARD
END:VTIMEZONE
BEGIN:VEVENT
DTSTART;TZID=Europe/Copenhagen:20201022T160000
DTEND;TZID=Europe/Copenhagen:20201022T180000
DTSTAMP:20260424T150028
CREATED:20201008T223949Z
LAST-MODIFIED:20201008T224020Z
UID:3086-1603382400-1603389600@arctic-sdi.org
SUMMARY:Technical Working Group and Data Working Group  meeting
DESCRIPTION:
URL:https://arctic-sdi.org/event/working-group-and-data-working-group-meeting/
END:VEVENT
END:VCALENDAR