BEGIN:VCALENDAR
VERSION:2.0
PRODID:-//Arctic SDI - ECPv6.15.11//NONSGML v1.0//EN
CALSCALE:GREGORIAN
METHOD:PUBLISH
X-WR-CALNAME:Arctic SDI
X-ORIGINAL-URL:https://arctic-sdi.org
X-WR-CALDESC:Events for Arctic SDI
REFRESH-INTERVAL;VALUE=DURATION:PT1H
X-Robots-Tag:noindex
X-PUBLISHED-TTL:PT1H
BEGIN:VTIMEZONE
TZID:UTC
BEGIN:STANDARD
TZOFFSETFROM:+0000
TZOFFSETTO:+0000
TZNAME:UTC
DTSTART:20200101T000000
END:STANDARD
END:VTIMEZONE
BEGIN:VEVENT
DTSTART;TZID=UTC:20210121T130000
DTEND;TZID=UTC:20210121T160000
DTSTAMP:20260423T091119
CREATED:20201008T224806Z
LAST-MODIFIED:20201008T224914Z
UID:3098-1611234000-1611244800@arctic-sdi.org
SUMMARY:NCP and WG leads meeting
DESCRIPTION:
URL:https://arctic-sdi.org/event/ncp-and-wg-leads-meeting-4/
LOCATION:Online
END:VEVENT
END:VCALENDAR